BEGIN:VCALENDAR
VERSION:2.0
PRODID:icalendar-ruby
CALSCALE:GREGORIAN
METHOD:PUBLISH
BEGIN:VEVENT
DTSTAMP:20260425T140923Z
UID:1-646490@seymourebchurch.com
DTSTART:20261103T153000Z
DTEND:20261103T163000Z
CLASS:PUBLIC
CREATED:20260425T073616
DESCRIPTION: \n 
LAST-MODIFIED:20260425T073616
LOCATION:
SUMMARY:Bible Study for All
URL;VALUE=URI:https://www.seymourebchurch.com/events/bible-study-for-all/20
 26-11-03
ATTACH;FILENAME=Tuesday Bible Study Image.png;FMTTYPE=image/png:https://dq5
 pwpg1q8ru0.cloudfront.net/2025/03/14/19/37/12/11a007aa-e5b0-4470-9afa-cdda
 f1386374/Tuesday%20Bible%20Study%20Image.png
END:VEVENT
END:VCALENDAR
